BEGIN:VCALENDAR
VERSION:2.0
PRODID:-//WirWanderer//Event//DE
BEGIN:VEVENT
DTSTAMP:20260517T220000Z
DTSTART:20260518T170000Z
DTEND:20260518T213000Z
SUMMARY:PanAm Lounge
LOCATION:Haus Eden Budapester Str. 43, 10787 Berlin
END:VEVENT
END:VCALENDAR
